Workbook
Name DatosExternos_1: 'INVENTARIO DE INTERESES Y PREFE'!$A$4:$A$207

Sheet INVENTARIO DE INTERESES Y PREFE
A2: En esta prueba se pide que indiques tus gustos y preferencias respecto a las frases que siguen a continuación. En el cuadro siguiente se relacionan diversas actividades y profesiones. Lee atentamente cada frase y marca tu respuesta con una X en la columna de la derecha siguiendo las indicaciones escritas en la parte superior de cada página. Debes indicar tus preferencias prescindiendo de otras consideraciones tales como recursos económicos o nivel de experiencia. Como se refiere a intereses no existen respuestas buenas o malas, todo aquello que refleje tu forma de pensar es una buena respuesta. En cada frase debes marcar sólo una opción de respuesta.
A3: INVENTARIO DE INTERESES Y PREFERENCIAS PROFESIONALES | B3: ME GUSTA | C3: ME ES INDIFERENTE O TENGO DUDAS | D3: NO ME GUSTA | E3: NO CONOCES ESA ACTIVIDAD O PROFESION
A4: 1. Investigar y experimentar en el campo de la mecánica, la óptica, la física nuclear, etc.
A5: 2. Estudiar la composición y estructura de la atmósfera y los astros (planetas, satélites, etc.).
A6: 3. Trabajar como analista clínico
A7: 4. Proyectar y dirigir la construcción de edificios. Preparar los planos de edificios o zonas completas de la ciudad (barrios, parques, zonas comerciales, etc.).
A8: 5. Ser arquitecto
A9: 6. Diagnosticar y tratar enfermedades del cuerpo humano
A10: 7. Ser médico.
A11: 8. Ser farmacéutico.
A12: 9. Investigar los orígenes de la raza humana consultando restos antiguos. Proyectar excavaciones para descubrir restos del pasado
A13: 10. Ejercer la profesión de antropólogo
A14: 11. Escribir novelas, cuentos, relatos u obras literarias para su publicación
A15: 12. Ser escritor profesional
... A209: NOTA: Una vez llegado a este punto, tu siguiente paso será acceder a la hoja de PERFIL de este archivo donde encontrarás los datos asociados a tu perfil en una tabla y en un gráfico. Recuerda que esto es un estudio exploratorio y no implica que necesariamente sean las carreras que debas elegir, sino que son las que más se ajustan a tu perfil de gustos y capacidades. Te invito a reflexionar sobre los resultados y evaluar las tablas que se te presentan y el gráfico relacionado.

Sheet Resultados
A1: Resultados | W1: Puntajes Transformados
B2: Ac | C2: Pr | E2: Ac | F2: Pr | H2: Ac | I2: Pr | K2: Ac | L2: Pr | N2: Ac | O2: Pr | S2: Ac | T2: Pr | W2: ME GUSTA | X2: ME ES INDIFERENTE O TENGO DUDAS | Y2: NO ME GUSTA | Z2: NO CONOCES ESA ACTIVIDAD O PROFESION
A3: 1 | B3: =SUM(W3:Z4) -> 0 | C3: =SUM(W5:Z5) -> 0 | D3: 1 | E3: =SUM(W48:Z48) -> 0 | F3: =SUM(W49:Z50) -> 0 | G3: 1 | H3: =SUM(W93:Z93) -> 0 | I3: =SUM(W94:Z94) -> 0 | J3: 1 | K3: =SUM(W138:Z138) -> 0 | L3: =SUM(W139:Z139) -> 0 | M3: 1 | N3: =SUM(W183:Z183) -> 0 | O3: =SUM(W184:Z184) -> 0 | R3: CE | S3: =SUM(B3,E3,H3,K3,N3) -> 0 | T3: =SUM(C3,F3,I3,L3,O3) -> 0 | V3: 1 | W3: =IF('INVENTARIO DE INTERESES Y PREFE'!B4="x",2,0) -> 0 | X3: =IF('INVENTARIO DE INTERESES Y PREFE'!C4="x",1,0) -> 0 | Y3: 0 | Z3: 0
A4: 2 | B4: =SUM(W6:Z6) -> 0 | C4: =SUM(W7:Z7) -> 0 | D4: 2 | E4: =SUM(W51:Z51) -> 0 | F4: =SUM(W52:Z52) -> 0 | G4: 2 | H4: =SUM(W95:Z96) -> 0 | I4: =SUM(W97:Z97) -> 0 | J4: 2 | K4: =SUM(W140:Z140) -> 0 | L4: =SUM(W141:Z142) -> 0 | M4: 2 | N4: =SUM(W185:Z185) -> 0 | O4: =SUM(W186:Z186) -> 0 | R4: CT | S4: =SUM(B4,E4,H4,K4,N4) -> 0 | T4: =SUM(C4,F4,I4,L4,O4) -> 0 | V4: 2 | W4: =IF('INVENTARIO DE INTERESES Y PREFE'!B5="x",2,0) -> 0 | X4: =IF('INVENTARIO DE INTERESES Y PREFE'!C5="x",1,0) -> 0 | Y4: 0 | Z4: 0
A5: 3 | B5: =SUM(W8:Z8) -> 0 | C5: =SUM(W9:Z10) -> 0 | D5: 3 | E5: =SUM(W53:Z53) -> 0 | F5: =SUM(W54:Z54) -> 0 | G5: 3 | H5: =SUM(W98:Z98) -> 0 | I5: =SUM(W99:Z99) -> 0 | J5: 3 | K5: =SUM(W143:Z143) -> 0 | L5: =SUM(W144:Z144) -> 0 | M5: 3 | N5: =SUM(W187:Z188) -> 0 | O5: =SUM(W189:Z189) -> 0 | R5: CS | S5: =SUM(B5,E5,H5,K5,N5) -> 0 | T5: =SUM(C5,F5,I5,L5,O5) -> 0 | V5: 3 | W5: =IF('INVENTARIO DE INTERESES Y PREFE'!B6="x",2,0) -> 0 | X5: =IF('INVENTARIO DE INTERESES Y PREFE'!C6="x",1,0) -> 0 | Y5: 0 | Z5: 0
A6: 4 | B6: =SUM(W11:Z11) -> 0 | C6: =SUM(W12:Z12) -> 0 | D6: 4 | E6: =SUM(W55:Z56) -> 0 | F6: =SUM(W57:Z57) -> 0 | G6: 4 | H6: =SUM(W100:Z100) -> 0 | I6: =SUM(W101:Z102) -> 0 | J6: 4 | K6: =SUM(W145:Z145) -> 0 | L6: =SUM(W146:Z146) -> 0 | M6: 4 | N6: =SUM(W190:Z190) -> 0 | O6: =SUM(W191:Z191) -> 0 | R6: TH | S6: =SUM(B6,E6,H6,K6,N6) -> 0 | T6: =SUM(C6,F6,I6,L6,O6) -> 0 | V6: 4 | W6: =IF('INVENTARIO DE INTERESES Y PREFE'!B7="x",2,0) -> 0 | X6: =IF('INVENTARIO DE INTERESES Y PREFE'!C7="x",1,0) -> 0 | Y6: 0 | Z6: 0
A7: 5 | B7: =SUM(W13:Z13) -> 0 | C7: =SUM(W14:Z14) -> 0 | D7: 5 | E7: =SUM(W58:Z58) -> 0 | F7: =SUM(W59:Z59) -> 0 | G7: 5 | H7: =SUM(W103:Z103) -> 0 | I7: =SUM(W104:Z104) -> 0 | J7: 5 | K7: =SUM(W147:Z148) -> 0 | L7: =SUM(W149:Z149) -> 0 | M7: 5 | N7: =SUM(W192:Z192) -> 0 | O7: =SUM(W193:Z194) -> 0 | R7: L | S7: =SUM(B7,E7,H7,K7,N7) -> 0 | T7: =SUM(C7,F7,I7,L7,O7) -> 0 | V7: 5 | W7: =IF('INVENTARIO DE INTERESES Y PREFE'!B8="x",2,0) -> 0 | X7: =IF('INVENTARIO DE INTERESES Y PREFE'!C8="x",1,0) -> 0 | Y7: 0 | Z7: 0
A8: 6 | B8: =SUM(W15:Z16) -> 0 | C8: =SUM(W17:Z17) -> 0 | D8: 6 | E8: =SUM(W60:Z60) -> 0 | F8: =SUM(W61:Z62) -> 0 | G8: 6 | H8: =SUM(W105:Z105) -> 0 | I8: =SUM(W106:Z106) -> 0 | J8: 6 | K8: =SUM(W150:Z150) -> 0 | L8: =SUM(W151:Z151) -> 0 | M8: 6 | N8: =SUM(W195:Z195) -> 0 | O8: =SUM(W196:Z196) -> 0 | R8: P | S8: =SUM(B8,E8,H8,K8,N8) -> 0 | T8: =SUM(C8,F8,I8,L8,O8) -> 0 | V8: 6 | W8: =IF('INVENTARIO DE INTERESES Y PREFE'!B9="x",2,0) -> 0 | X8: =IF('INVENTARIO DE INTERESES Y PREFE'!C9="x",1,0) -> 0 | Y8: 0 | Z8: 0
A9: 7 | B9: =SUM(W18:Z18) -> 0 | C9: =SUM(W19:Z19) -> 0 | D9: 7 | E9: =SUM(W63:Z63) -> 0 | F9: =SUM(W64:Z64) -> 0 | G9: 7 | H9: =SUM(W107:Z108) -> 0 | I9: =SUM(W109:Z109) -> 0 | J9: 7 | K9: =SUM(W152:Z152) -> 0 | L9: =SUM(W153:Z154) -> 0 | M9: 7 | N9: =SUM(W197:Z197) -> 0 | O9: =SUM(W198:Z198) -> 0 | R9: PS | S9: =SUM(B9,E9,H9,K9,N9) -> 0 | T9: =SUM(C9,F9,I9,L9,O9) -> 0 | V9: 7 | W9: =IF('INVENTARIO DE INTERESES Y PREFE'!B10="x",2,0) -> 0 | X9: =IF('INVENTARIO DE INTERESES Y PREFE'!C10="x",1,0) -> 0 | Y9: 0 | Z9: 0
A10: 8 | B10: =SUM(W20:Z20) -> 0 | C10: =SUM(W21:Z22) -> 0 | D10: 8 | E10: =SUM(W65:Z65) -> 0 | F10: =SUM(W66:Z66) -> 0 | G10: 8 | H10: =SUM(W110:Z110) -> 0 | I10: =SUM(W111:Z111) -> 0 | J10: 8 | K10: =SUM(W155:Z155) -> 0 | L10: =SUM(W156:Z156) -> 0 | M10: 8 | N10: =SUM(W199:Z200) -> 0 | O10: =SUM(W201:Z201) -> 0 | R10: EE | S10: =SUM(B10,E10,H10,K10,N10) -> 0 | T10: =SUM(C10,F10,I10,L10,O10) -> 0 | V10: 8 | W10: =IF('INVENTARIO DE INTERESES Y PREFE'!B11="x",2,0) -> 0 | X10: =IF('INVENTARIO DE INTERESES Y PREFE'!C11="x",1,0) -> 0 | Y10: 0 | Z10: 0
A11: 9 | B11: =SUM(W23:Z23) -> 0 | C11: =SUM(W24:Z24) -> 0 | D11: 9 | E11: =SUM(W67:Z68) -> 0 | F11: =SUM(W69:Z69) -> 0 | G11: 9 | H11: =SUM(W112:Z112) -> 0 | I11: =SUM(W113:Z113) -> 0 | J11: 9 | K11: =SUM(W157:Z157) -> 0 | L11: =SUM(W158:Z158) -> 0 | M11: 9 | N11: =SUM(W202:Z202) -> 0 | O11: =SUM(W203:Z203) -> 0 | R11: PC | S11: =SUM(B11,E11,H11,K11,N11) -> 0 | T11: =SUM(C11,F11,I11,L11,O11) -> 0 | V11: 9 | W11: =IF('INVENTARIO DE INTERESES Y PREFE'!B12="x",2,0) -> 0 | X11: =IF('INVENTARIO DE INTERESES Y PREFE'!C12="x",1,0) -> 0 | Y11: 0 | Z11: 0
A12: 10 | B12: =SUM(W25:Z25) -> 0 | C12: =SUM(W26:Z26) -> 0 | D12: 10 | E12: =SUM(W70:Z70) -> 0 | F12: =SUM(W71:Z71) -> 0 | G12: 10 | H12: =SUM(W115:Z115) -> 0 | I12: =SUM(W116:Z116) -> 0 | J12: 10 | K12: =SUM(W159:Z160) -> 0 | L12: =SUM(W161:Z161) -> 0 | M12: 10 | N12: =SUM(W204:Z204) -> 0 | O12: =SUM(W205:Z206) -> 0 | R12: A | S12: =SUM(B12,E12,H12,K12,N12) -> 0 | T12: =SUM(C12,F12,I12,L12,O12) -> 0 | V12: 10 | W12: =IF('INVENTARIO DE INTERESES Y PREFE'!B13="x",2,0) -> 0 | X12: =IF('INVENTARIO DE INTERESES Y PREFE'!C13="x",1,0) -> 0 | Y12: 0 | Z12: 0
A13: 11 | B13: =SUM(W27:Z28) -> 0 | C13: =SUM(W29:Z29) -> 0 | D13: 11 | E13: =SUM(W72:Z73) -> 0 | F13: =SUM(W74:Z74) -> 0 | G13: 11 | H13: =SUM(W117:Z117) -> 0 | I13: =SUM(W118:Z119) -> 0 | J13: 11 | K13: =SUM(W162:Z162) -> 0 | L13: =SUM(W163:Z164) -> 0 | R13: D | S13: =SUM(B13,E13,H13,K13,N13) -> 0 | T13: =SUM(C13,F13,I13,L13,O13) -> 0 | V13: 11 | W13: =IF('INVENTARIO DE INTERESES Y PREFE'!B14="x",2,0) -> 0 | X13: =IF('INVENTARIO DE INTERESES Y PREFE'!C14="x",1,0) -> 0 | Y13: 0 | Z13: 0
A14: 12 | B14: =SUM(W30:Z31) -> 0 | C14: =SUM(W32:Z32) -> 0 | D14: 12 | E14: =SUM(W75:Z76) -> 0 | F14: =SUM(W77:Z77) -> 0 | G14: 12 | H14: =SUM(W120:Z120) -> 0 | I14: =SUM(W121:Z122) -> 0 | J14: 12 | K14: =SUM(W165:Z165) -> 0 | L14: =SUM(W166:Z167) -> 0 | R14: AG | S14: =SUM(B14,E14,H14,K14,N14) -> 0 | T14: =SUM(C14,F14,I14,L14,O14) -> 0 | V14: 12 | W14: =IF('INVENTARIO DE INTERESES Y PREFE'!B15="x",2,0) -> 0 | X14: =IF('INVENTARIO DE INTERESES Y PREFE'!C15="x",1,0) -> 0 | Y14: 0 | Z14: 0
A15: 13 | B15: =SUM(W33:Z34) -> 0 | C15: =SUM(W35:Z35) -> 0 | D15: 13 | E15: =SUM(W78:Z79) -> 0 | F15: =SUM(W80:Z80) -> 0 | G15: 13 | H15: =SUM(W123:X123) -> 0 | I15: =SUM(W124:Z125) -> 0 | J15: 13 | K15: =SUM(W168:Z168) -> 0 | L15: =SUM(W169:Z170) -> 0 | R15: AM | S15: =SUM(B15,E15,H15,K15,N15) -> 0 | T15: =SUM(C15,F15,I15,L15,O15) -> 0 | V15: 13 | W15: =IF('INVENTARIO DE INTERESES Y PREFE'!B16="x",2,0) -> 0 | X15: =IF('INVENTARIO DE INTERESES Y PREFE'!C16="x",1,0) -> 0 | Y15: 0 | Z15: 0
A16: 14 | B16: =SUM(W36:Z37) -> 0 | C16: =SUM(W38:Z38) -> 0 | D16: 14 | E16: =SUM(W81:Z82) -> 0 | F16: =SUM(W83:Z83) -> 0 | G16: 14 | H16: =SUM(W126:Z126) -> 0 | I16: =SUM(W127:Z128) -> 0 | J16: 14 | K16: =SUM(W171:Z171) -> 0 | L16: =SUM(W172:Z173) -> 0 | R16: AP | S16: =SUM(B16,E16,H16,K16,N16) -> 0 | T16: =SUM(C16,F16,I16,L16,O16) -> 0 | V16: 14 | W16: =IF('INVENTARIO DE INTERESES Y PREFE'!B17="x",2,0) -> 0 | X16: =IF('INVENTARIO DE INTERESES Y PREFE'!C17="x",1,0) -> 0 | Y16: 0 | Z16: 0
A17: 15 | B17: =SUM(W39:Z40) -> 0 | C17: =SUM(W41:Z41) -> 0 | D17: 15 | E17: =SUM(W84:Z85) -> 0 | F17: =SUM(W86:Z86) -> 0 | G17: 15 | H17: =SUM(W129:Z129) -> 0 | I17: =SUM(W130:Z131) -> 0 | J17: 15 | K17: =SUM(W174:Z174) -> 0 | L17: =SUM(W175:Z176) -> 0 | R17: MS | S17: =SUM(B17,E17,H17,K17,N17) -> 0 | T17: =SUM(C17,F17,I17,L17,O17) -> 0 | V17: 15 | W17: =IF('INVENTARIO DE INTERESES Y PREFE'!B18="x",2,0) -> 0 | X17: =IF('INVENTARIO DE INTERESES Y PREFE'!C18="x",1,0) -> 0 | Y17: 0 | Z17: 0
A18: 16 | B18: =SUM(W42:Z43) -> 0 | C18: =SUM(W44:Z44) -> 0 | D18: 16 | E18: =SUM(W87:Z88) -> 0 | F18: =SUM(W89:Z89) -> 0 | G18: 16 | H18: =SUM(W132:Z132) -> 0 | I18: =SUM(W133:Z134) -> 0 | J18: 16 | K18: =SUM(W177:Z177) -> 0 | L18: =SUM(W178:Z179) -> 0 | R18: AR | S18: =SUM(B18,E18,H18,K18,N18) -> 0 | T18: =SUM(C18,F18,I18,L18,O18) -> 0 | V18: 16 | W18: =IF('INVENTARIO DE INTERESES Y PREFE'!B19="x",2,0) -> 0 | X18: =IF('INVENTARIO DE INTERESES Y PREFE'!C19="x",1,0) -> 0 | Y18: 0 | Z18: 0
A19: 17 | B19: =SUM(W45:Z46) -> 0 | C19: =SUM(W47:Z47) -> 0 | D19: 17 | E19: =SUM(W90:Z91) -> 0 | F19: =SUM(W92:Z92) -> 0 | G19: 17 | H19: =SUM(W135:Z135) -> 0 | I19: =SUM(W136:Z137) -> 0 | J19: 17 | K19: =SUM(W180:Z180) -> 0 | L19: =SUM(W181:Z182) -> 0 | R19: MM | S19: =SUM(B19,E19,H19,K19,N19) -> 0 | T19: =SUM(C19,F19,I19,L19,O19) -> 0 | V19: 17 | W19: =IF('INVENTARIO DE INTERESES Y PREFE'!B20="x",2,0) -> 0 | X19: =IF('INVENTARIO DE INTERESES Y PREFE'!C20="x",1,0) -> 0 | Y19: 0 | Z19: 0
V20: 18 | W20: =IF('INVENTARIO DE INTERESES Y PREFE'!B21="x",2,0) -> 0 | X20: =IF('INVENTARIO DE INTERESES Y PREFE'!C21="x",1,0) -> 0 | Y20: 0 | Z20: 0
V21: 19 | W21: =IF('INVENTARIO DE INTERESES Y PREFE'!B22="x",2,0) -> 0 | X21: =IF('INVENTARIO DE INTERESES Y PREFE'!C22="x",1,0) -> 0 | Y21: 0 | Z21: 0
V22: 20 | W22: =IF('INVENTARIO DE INTERESES Y PREFE'!B23="x",2,0) -> 0 | X22: =IF('INVENTARIO DE INTERESES Y PREFE'!C23="x",1,0) -> 0 | Y22: 0 | Z22: 0
V23: 21 | W23: =IF('INVENTARIO DE INTERESES Y PREFE'!B24="x",2,0) -> 0 | X23: =IF('INVENTARIO DE INTERESES Y PREFE'!C24="x",1,0) -> 0 | Y23: 0 | Z23: 0
V24: 22 | W24: =IF('INVENTARIO DE INTERESES Y PREFE'!B25="x",2,0) -> 0 | X24: =IF('INVENTARIO DE INTERESES Y PREFE'!C25="x",1,0) -> 0 | Y24: 0 | Z24: 0
V25: 23 | W25: =IF('INVENTARIO DE INTERESES Y PREFE'!B26="x",2,0) -> 0 | X25: =IF('INVENTARIO DE INTERESES Y PREFE'!C26="x",1,0) -> 0 | Y25: 0 | Z25: 0
V26: 24 | W26: =IF('INVENTARIO DE INTERESES Y PREFE'!B27="x",2,0) -> 0 | X26: =IF('INVENTARIO DE INTERESES Y PREFE'!C27="x",1,0) -> 0 | Y26: 0 | Z26: 0
V27: 25 | W27: =IF('INVENTARIO DE INTERESES Y PREFE'!B28="x",2,0) -> 0 | X27: =IF('INVENTARIO DE INTERESES Y PREFE'!C28="x",1,0) -> 0 | Y27: 0 | Z27: 0
V28: 26 | W28: =IF('INVENTARIO DE INTERESES Y PREFE'!B29="x",2,0) -> 0 | X28: =IF('INVENTARIO DE INTERESES Y PREFE'!C29="x",1,0) -> 0 | Y28: 0 | Z28: 0
V29: 27 | W29: =IF('INVENTARIO DE INTERESES Y PREFE'!B30="x",2,0) -> 0 | X29: =IF('INVENTARIO DE INTERESES Y PREFE'!C30="x",1,0) -> 0 | Y29: 0 | Z29: 0
V30: 28 | W30: =IF('INVENTARIO DE INTERESES Y PREFE'!B31="x",2,0) -> 0 | X30: =IF('INVENTARIO DE INTERESES Y PREFE'!C31="x",1,0) -> 0 | Y30: 0 | Z30: 0
V31: 29 | W31: =IF('INVENTARIO DE INTERESES Y PREFE'!B32="x",2,0) -> 0 | X31: =IF('INVENTARIO DE INTERESES Y PREFE'!C32="x",1,0) -> 0 | Y31: 0 | Z31: 0
... V206: 204 | W206: =IF('INVENTARIO DE INTERESES Y PREFE'!B207="x",2,0) -> 0 | X206: =IF('INVENTARIO DE INTERESES Y PREFE'!C207="x",1,0) -> 0 | Y206: 0 | Z206: 0

Sheet Perfil
B2: En este grafico encontrarás el resumen de tus puntuaciones, las barras más altas son tus intereses destacados, aquellos que usaremos para guiar tu elección vocacional. Las que estén más bajas, también te orientan a las áreas que no son de tu agrado, así que considera no tomarlas entre tus primeras opciones. Para cada área, la línea cuadriculada representa las actividades, y la linea de color representa las profesiones. | I2: Tus áreas destacadas
I5: =IF(F48>70,"Te interesan actividades como investigar y realizar experimentos en diversas áreas de la ciencia, descubrir nuevos conocimientos en sus campos específicos de trabajo",IF(F48<69,," ")) -> Te interesan actividades como investigar y realizar experimentos en diversas áreas de la ciencia, descubrir nuevos conocimientos en sus campos específicos de trabajo
I6: =IF(F49>70,"Te interesan profesiones como análisis clínico, astronomo, psicólogo, geólogo, matemático, físico, químico, meteórologo, especialista en oceanografía, botánico, analista, informático, biólogo",IF(F49<69,," ")) -> Te interesan profesiones como análisis clínico, astronomo, psicólogo, geólogo, matemático, físico, químico, meteórologo, especialista en oceanografía, botánico, analista, informático, biólogo
I7: =IF(F50>70,"Te interesa utilizar los conocimientos científicos en la industria, proyectar y dirigir la construcción, desarrollar nuevos productos",IF(F50<69,," ")) -> Te interesa utilizar los conocimientos científicos en la industria, proyectar y dirigir la construcción, desarrollar nuevos productos
I8: =IF(F51>70,"Te interesa profesiones como: arquitecto, ingeniero, arquitecto técnico, contralodor aéreo, piloto, capitán de barco",IF(F51<69,," ")) -> Te interesa profesiones como: arquitecto, ingeniero, arquitecto técnico, contralodor aéreo, piloto, capitán de barco
I9: =IF(F52>70,"Te interesa atender a heridos y enfermos, hacer diagnósticos, prescribir y administrar tratamientos médicos a los seres humanos o animales, suministrar medicamentos",IF(F52<69,," ")) -> Te interesa atender a heridos y enfermos, hacer diagnósticos, prescribir y administrar tratamientos médicos a los seres humanos o animales, suministrar medicamentos
I10: =IF(F53>70,"Te interesa profesiones como: médico, veterinario, cirujano, dentista, farmacéutico, fisioterapeuta, especialista en dietética, bromatología",IF(F53<69,," ")) -> Te interesa profesiones como: médico, veterinario, cirujano, dentista, farmacéutico, fisioterapeuta, especialista en dietética, bromatología
I11: =IF(F54>70,"Te interesa realizar estudios e investigaciones sobre los orígenes, la evolución, la historia y el comportamiento del hombre,propagar doctrinas y realizar ceremonias ",IF(F54<69,," ")) -> Te interesa realizar estudios e investigaciones sobre los orígenes, la evolución, la historia y el comportamiento del hombre,propagar doctrinas y realizar ceremonias
I12: =IF(F55>70,"Te interesa profesiones como: antropólogía, arqueólogía, historiador, conservador de museo, filosofía, sacerdote ",IF(F55<69,," ")) -> Te interesa profesiones como: antropólogía, arqueólogía, historiador, conservador de museo, filosofía, sacerdote
I13: =IF(F56>70,"Te interesa escribir obras de diferentes géneros literarios, redactar críticas de obras literarias, artísticas o musicales, escribir información para su publicación ",IF(F56<69,," ")) -> Te interesa escribir obras de diferentes géneros literarios, redactar críticas de obras literarias, artísticas o musicales, escribir información para su publicación
I14: =IF(F57>70,"Te interesa profesiones como: escritor, novelista, guionista de radio, tv o cine, locutor de radio o tv, periodismo, auor teatral, poeta, escritor de letras de canciones ",IF(F57<69,," ")) -> Te interesa profesiones como: escritor, novelista, guionista de radio, tv o cine, locutor de radio o tv, periodismo, auor teatral, poeta, escritor de letras de canciones
I15: =IF(F58>70,"Te interesa dar clases a alumnos de distintos niveles, investigar y aconsejar sobre métodos psicopedagógicos, organizar actividades educativas, estudiar el comportamiento del ser humano ",IF(F58<69,," ")) -> Te interesa dar clases a alumnos de distintos niveles, investigar y aconsejar sobre métodos psicopedagógicos, organizar actividades educativas, estudiar el comportamiento del ser humano
I16: =IF(F59>70,"Te interesa profesiones como: profesor, pedagogía, maestro de preescolar, psicólogía escolar, reeducador de delincuentes, orientador, reeducador de toxicómanos, director de colegio ",IF(F59<69,," ")) -> Te interesa profesiones como: profesor, pedagogía, maestro de preescolar, psicólogía escolar, reeducador de delincuentes, orientador, reeducador de toxicómanos, director de colegio
I17: =IF(F60>70,"Te interesa dirigir la política nacional o participar en ella, interpretar las leyes, ayudar a los miembros de la colectividad, administrar justicia ",IF(F60<69,," ")) -> Te interesa dirigir la política nacional o participar en ella, interpretar las leyes, ayudar a los miembros de la colectividad, administrar justicia
I18: =IF(F61>70,"Te interesa profesiones como: abogado, sociólogo, asistente social, diplomático, político, notario, juez, registrador de propiedades, fiscal, asesor jurídico ",IF(F61<69,," ")) -> Te interesa profesiones como: abogado, sociólogo, asistente social, diplomático, político, notario, juez, registrador de propiedades, fiscal, asesor jurídico
I19: =IF(F62>70,"Te interesa planificar, organizar, dirigir y controlar las actividades de empresas, formular la política general de una empresa, realizar estudios relacionados con la economía ",IF(F62<69,," ")) -> Te interesa planificar, organizar, dirigir y controlar las actividades de empresas, formular la política general de una empresa, realizar estudios relacionados con la economía
I20: =IF(F63>70,"Te interesa profesiones como: economía, empresario, gerente de empresa, director de banco, asesor económico, director financiero, asesor fiscal ",IF(F63<69,," ")) -> Te interesa profesiones como: economía, empresario, gerente de empresa, director de banco, asesor económico, director financiero, asesor fiscal
I21: =IF(F64>70,"Te interesa organizar, coordinar y dirigir, por cuenta de los propietarios, las actividades de empresa, dedicados al comercio, compra y venta ",IF(F64<69,," ")) -> Te interesa organizar, coordinar y dirigir, por cuenta de los propietarios, las actividades de empresa, dedicados al comercio, compra y venta
I22: =IF(F65>70,"Te interesa profesiones como: asesor de ventas, agente de seguros, relaciones públicas, director de turismo, agente de espectaculos, publicista ",IF(F65<69,," ")) -> Te interesa profesiones como: asesor de ventas, agente de seguros, relaciones públicas, director de turismo, agente de espectaculos, publicista
I23: =IF(F66>70,"Te interesa organizar o realizar el trabajo administrativo normal de una oficina, realizar de pagos y cobros. ",IF(F66<69,," ")) -> Te interesa organizar o realizar el trabajo administrativo normal de una oficina, realizar de pagos y cobros.
I24: =IF(F67>70,"Te interesa operador de ordenadores, mecanógrafo, telefonista, administración, secretario, empleado de notaria ",IF(F67<69,," ")) -> Te interesa operador de ordenadores, mecanógrafo, telefonista, administración, secretario, empleado de notaria
I25: =IF(F68>70,"Te interesa participar en competencias deportivas, entrenar o preparar deportistas, así comoel conocimiento y la técnica de su deporte. ",IF(F68<69,," ")) -> Te interesa participar en competencias deportivas, entrenar o preparar deportistas, así comoel conocimiento y la técnica de su deporte.
I26: =IF(F69>70,"Te interesa profesiones como: arbritro, atleta, futbolista, jugador de baloncesto, jinete de competición, ciclista, entrenador, preparador físico, monitor de cultura física ",IF(F69<69,," ")) -> Te interesa profesiones como: arbritro, atleta, futbolista, jugador de baloncesto, jinete de competición, ciclista, entrenador, preparador físico, monitor de cultura física
I27: =IF(F70>70,"Te interesa dirigir explotaciones agrarias o de pesca, cultivar el campo, criar animales, cuidar y explotar los bosques ",IF(F70<69,," ")) -> Te interesa dirigir explotaciones agrarias o de pesca, cultivar el campo, criar animales, cuidar y explotar los bosques
I28: =IF(F71>70,"Te interesa profersiones como: agricultor, ganadero, ingeniería agrária, pescador, granjero, criador de aves y otras especies ",IF(F71<69,," ")) -> Te interesa profersiones como: agricultor, ganadero, ingeniería agrária, pescador, granjero, criador de aves y otras especies
I29: =IF(F72>70,"Te interesa componer, dirigir o interpretar obras musicales en el teatro, cine, radio, tv, cantar, crear coreografía de bailes ",IF(F72<69,," ")) -> Te interesa componer, dirigir o interpretar obras musicales en el teatro, cine, radio, tv, cantar, crear coreografía de bailes
I30: =IF(F73>70,"Te interesa profesiones como: compositor de música, autor e intérprete de canciones, cantante de opera, director de orquesta, pianista, violinista, director de coros, bailarín, coreógrafo ",IF(30<69,," ")) -> Te interesa profesiones como: compositor de música, autor e intérprete de canciones, cantante de opera, director de orquesta, pianista, violinista, director de coros, bailarín, coreógrafo
I31: =IF(F74>70,"Te interesa crear y realizar obras artísticas de escultura, pintura, dibujo o grabado, restaurar obras de arte, dibujar, hacer fotografías ",IF(F74<69,," ")) -> Te interesa crear y realizar obras artísticas de escultura, pintura, dibujo o grabado, restaurar obras de arte, dibujar, hacer fotografías
I32: =IF(F75>70,"Te interesa profesiones como: pintor, dibujante, escultor, restaurador de obras, decorador, ilustrador de libros, decorador de escenarios, fotógrafía, camarografo de tv o cine, fotografía publicitaria ",IF(F75<69,," ")) -> Te interesa profesiones como: pintor, dibujante, escultor, restaurador de obras, decorador, ilustrador de libros, decorador de escenarios, fotógrafía, camarografo de tv o cine, fotografía publicitaria
I33: =IF(F76>70,"Te interesa prestar servicio en establecimientos militares, realizar funciones de protección, seguridad y vigilancia ",IF(F76<69,," ")) -> Te interesa prestar servicio en establecimientos militares, realizar funciones de protección, seguridad y vigilancia
I34: =IF(F77>70,"Te interesa prpofesiones como: militar, oficial de la armada, policía, oficial de la aviación, vigilante privado, soldado profesional del ejercito ",IF(F77<69,," ")) -> Te interesa prpofesiones como: militar, oficial de la armada, policía, oficial de la aviación, vigilante privado, soldado profesional del ejercito
I35: =IF(F78>70,"Te interesa realizar viajes y exploraciones arriesgados, domar animales peligrosos , participar en carreras de coches o motos ",IF(F78<69,," ")) -> Te interesa realizar viajes y exploraciones arriesgados, domar animales peligrosos , participar en carreras de coches o motos
I36: =IF(F79>70,"Te interesa profesiones como: astronauta, espeleología, piloto de carreras, domador, torero, detective ",IF(F79<69,," ")) -> Te interesa profesiones como: astronauta, espeleología, piloto de carreras, domador, torero, detective
I37: =IF(F80>70,"Te interesa construir o reparar objeto, mantener o reparar instalaciones , construir o reparar edificios, elaborar tejidos, confeccionar ropa ",IF(F80<69,," ")) -> Te interesa construir o reparar objeto, mantener o reparar instalaciones , construir o reparar edificios, elaborar tejidos, confeccionar ropa
I38: =IF(F81>70,"Te interesa profesiones como: constructor de instrumentos musicales, modista, tapicero, relojero, ebanista, zapatero, ceramista, impresor, joyero, albañil, electricista, tejedor ",IF(F81<69,," ")) -> Te interesa profesiones como: constructor de instrumentos musicales, modista, tapicero, relojero, ebanista, zapatero, ceramista, impresor, joyero, albañil, electricista, tejedor
B45: Intereses y Preferencias Profesionales
B46: PERFIL
E47: PD | F47: PC
A48: 1 | B48: Científico experimental | D48: Actividades | E48: =Resultados!S3 -> 0 | F48: =IF(E48=1, 25, IF(E48=2, 40, IF(E48=3, 55, IF(E48=4, 65, IF(E49=5, 75, IF(E49=6, 85, IF(E49=7, 90, IF(E49=8, 95, IF(E49=9, 97, IF(E49=10, 98, IF(E49=11, 100, IF(E49=12, 100, ""))))))))))))
A49: 1 | D49: Profesiones | E49: =Resultados!T3 -> 0 | F49: =IF(E49=1, 25, IF(E49=2, 40, IF(E49=3, 55, IF(E49=4, 65, IF(E49=5, 75, IF(E49=6, 85, IF(E49=7, 90, IF(E49=8, 95, IF(E49=9, 97, IF(E49=10, 98, IF(E49=11, 100, IF(E49=12, 100, ""))))))))))))
...
